BEGIN:VCALENDAR
VERSION:2.0
PRODID:http://ssb-oberer-aischgrund.de
BEGIN:VEVENT
UID:02a8845c-36a8-11f1-a8bf-0242ac11002b-1777467600000-de
DTSTAMP:20260412T194425Z
DTSTART:20260429T130000Z
DTEND:20260429T140000Z
SUMMARY;LANGUAGE=de:Wort-Gottes-Feier
DESCRIPTION;LANGUAGE=de:Gerlach-von-Hohenlohe-Stift
END:VEVENT
END:VCALENDAR
