BEGIN:VCALENDAR
VERSION:2.0
PRODID:http://ssb-oberer-aischgrund.de
BEGIN:VEVENT
UID:030179e1-36a8-11f1-a8bf-0242ac11002b-1777222800000-de
DTSTAMP:20260412T194425Z
DTSTART:20260426T170000Z
DTEND:20260426T180000Z
SUMMARY;LANGUAGE=de:Friedensgebet
END:VEVENT
END:VCALENDAR
