BEGIN:VCALENDAR
VERSION:2.0
PRODID:http://ssb-oberer-aischgrund.de
BEGIN:VEVENT
UID:03299b54-36a8-11f1-a8bf-0242ac11002b-1777654800000-de
DTSTAMP:20260412T194426Z
DTSTART:20260501T170000Z
DTEND:20260501T180000Z
SUMMARY;LANGUAGE=de:Maiandacht
END:VEVENT
END:VCALENDAR
