BEGIN:VCALENDAR
VERSION:2.0
PRODID:http://ssb-oberer-aischgrund.de
BEGIN:VEVENT
UID:03c05d23-36a8-11f1-a8bf-0242ac11002b-1777132800000-de
DTSTAMP:20260412T194427Z
DTSTART:20260425T160000Z
DTEND:20260425T170000Z
SUMMARY;LANGUAGE=de:Eucharistiefeier
DESCRIPTION;LANGUAGE=de:f. d. Pfarrgemeinde;
END:VEVENT
END:VCALENDAR
