BEGIN:VCALENDAR
VERSION:2.0
PRODID:http://ssb-oberer-aischgrund.de
BEGIN:VEVENT
UID:0487f2f2-36a8-11f1-a8bf-0242ac11002b-1777384800000-de
DTSTAMP:20260412T194428Z
DTSTART:20260428T140000Z
DTEND:20260428T150000Z
SUMMARY;LANGUAGE=de:Wort-Gottes-Feier
DESCRIPTION;LANGUAGE=de:Vitalis-Wohnpark
END:VEVENT
END:VCALENDAR
