BEGIN:VCALENDAR
VERSION:2.0
PRODID:http://ssb-oberer-aischgrund.de
BEGIN:VEVENT
UID:04cc4efb-36a8-11f1-a8bf-0242ac11002b-1777820400000-de
DTSTAMP:20260412T194428Z
DTSTART:20260503T150000Z
DTEND:20260503T160000Z
SUMMARY;LANGUAGE=de:Eucharistiefeier
DESCRIPTION;LANGUAGE=de:- in polnischer Sprache
END:VEVENT
END:VCALENDAR
