BEGIN:VCALENDAR
VERSION:2.0
PRODID:http://ssb-oberer-aischgrund.de
BEGIN:VEVENT
UID:04e72a01-36a8-11f1-a8bf-0242ac11002b-1777192200000-de
DTSTAMP:20260412T194428Z
DTSTART:20260426T083000Z
DTEND:20260426T093000Z
SUMMARY;LANGUAGE=de:Eucharistiefeier
DESCRIPTION;LANGUAGE=de:(für die Pfarrgemeinde)
END:VEVENT
END:VCALENDAR
