BEGIN:VCALENDAR
VERSION:2.0
PRODID:http://ssb-oberer-aischgrund.de
BEGIN:VEVENT
UID:05100eca-36a8-11f1-a8bf-0242ac11002b-1777098600000-de
DTSTAMP:20260412T194429Z
DTSTART:20260425T063000Z
DTEND:20260425T073000Z
SUMMARY;LANGUAGE=de:Beichtgelegenheit
END:VEVENT
END:VCALENDAR
