BEGIN:VCALENDAR
VERSION:2.0
PRODID:http://ssb-oberer-aischgrund.de
BEGIN:VEVENT
UID:0576bfe9-36a8-11f1-a8bf-0242ac11002b-1777996800000-de
DTSTAMP:20260412T194429Z
DTSTART:20260505T160000Z
DTEND:20260505T170000Z
SUMMARY;LANGUAGE=de:Maiandacht
END:VEVENT
END:VCALENDAR
