BEGIN:VCALENDAR
VERSION:2.0
PRODID:http://ssb-oberer-aischgrund.de
BEGIN:VEVENT
UID:059ce58f-36a8-11f1-a8bf-0242ac11002b-1777186800000-de
DTSTAMP:20260412T194430Z
DTSTART:20260426T070000Z
DTEND:20260426T080000Z
SUMMARY;LANGUAGE=de:Eucharistiefeier
DESCRIPTION;LANGUAGE=de:Gemeindezentrum
END:VEVENT
END:VCALENDAR
