BEGIN:VCALENDAR
VERSION:2.0
PRODID:http://ssb-oberer-aischgrund.de
BEGIN:VEVENT
UID:05fbce7e-36a8-11f1-a8bf-0242ac11002b-1777447200000-de
DTSTAMP:20260412T194430Z
DTSTART:20260429T072000Z
DTEND:20260429T082000Z
SUMMARY;LANGUAGE=de:Rosenkranz
END:VEVENT
END:VCALENDAR
