BEGIN:VCALENDAR
VERSION:2.0
PRODID:http://ssb-oberer-aischgrund.de
BEGIN:VEVENT
UID:0618f374-36a8-11f1-a8bf-0242ac11002b-1778432400000-de
DTSTAMP:20260412T194430Z
DTSTART:20260510T170000Z
DTEND:20260510T180000Z
SUMMARY;LANGUAGE=de:Friedensgebet
DESCRIPTION;LANGUAGE=de:in der ev. Kirche St. Kilian
END:VEVENT
END:VCALENDAR
