BEGIN:VCALENDAR
VERSION:2.0
PRODID:http://ssb-oberer-aischgrund.de
BEGIN:VEVENT
UID:0667afc3-36a8-11f1-a8bf-0242ac11002b-1777035600000-de
DTSTAMP:20260412T194431Z
DTSTART:20260424T130000Z
DTEND:20260424T133000Z
SUMMARY;LANGUAGE=de:Barmherzigkeitsrosenkranz
END:VEVENT
END:VCALENDAR
