BEGIN:VCALENDAR
VERSION:2.0
PRODID:http://ssb-oberer-aischgrund.de
BEGIN:VEVENT
UID:0675b986-36a8-11f1-a8bf-0242ac11002b-1777737600000-de
DTSTAMP:20260412T194431Z
DTSTART:20260502T160000Z
DTEND:20260502T170000Z
SUMMARY;LANGUAGE=de:Eucharistiefeier
DESCRIPTION;LANGUAGE=de:Gemeindezentrum
END:VEVENT
END:VCALENDAR
