BEGIN:VCALENDAR
VERSION:2.0
PRODID:http://ssb-oberer-aischgrund.de
BEGIN:VEVENT
UID:077e9e33-36a8-11f1-a8bf-0242ac11002b-1777564800000-de
DTSTAMP:20260412T194433Z
DTSTART:20260430T160000Z
DTEND:20260430T170000Z
SUMMARY;LANGUAGE=de:evang. Wort-Gottes-Feier
DESCRIPTION;LANGUAGE=de:in der Klinikkapelle
END:VEVENT
END:VCALENDAR
