BEGIN:VCALENDAR
VERSION:2.0
PRODID:http://ssb-oberer-aischgrund.de
BEGIN:VEVENT
UID:07b9d27f-36a8-11f1-a8bf-0242ac11002b-1777827600000-de
DTSTAMP:20260412T194433Z
DTSTART:20260503T170000Z
DTEND:20260503T180000Z
SUMMARY;LANGUAGE=de:Friedensgebet
DESCRIPTION;LANGUAGE=de:in der ev. Kirche Jobstgreuth
END:VEVENT
END:VCALENDAR
