BEGIN:VCALENDAR
VERSION:2.0
PRODID:http://ssb-oberer-aischgrund.de
BEGIN:VEVENT
UID:07e2de55-36a8-11f1-a8bf-0242ac11002b-1777361400000-de
DTSTAMP:20260412T194433Z
DTSTART:20260428T073000Z
DTEND:20260428T083000Z
SUMMARY;LANGUAGE=de:Eucharistische Anbetung
END:VEVENT
END:VCALENDAR
