BEGIN:VCALENDAR
VERSION:2.0
PRODID:http://ssb-oberer-aischgrund.de
BEGIN:VEVENT
UID:07f86228-36a8-11f1-a8bf-0242ac11002b-1777559400000-de
DTSTAMP:20260412T194434Z
DTSTART:20260430T143000Z
DTEND:20260430T153000Z
SUMMARY;LANGUAGE=de:Rosenkranz
END:VEVENT
END:VCALENDAR
