BEGIN:VCALENDAR
VERSION:2.0
PRODID:http://ssb-oberer-aischgrund.de
BEGIN:VEVENT
UID:08cb9213-3b05-11f1-a8bf-0242ac11002b-1778938200000-de
DTSTAMP:20260418T090023Z
DTSTART:20260516T133000Z
DTEND:20260516T143000Z
SUMMARY;LANGUAGE=de:Segnungsgottesdienst
DESCRIPTION;LANGUAGE=de:für Täuflinge aller vier Kirchorte; anschl. Begegnungsmöglichkeit im Pfarrsaal
END:VEVENT
END:VCALENDAR
