BEGIN:VCALENDAR
VERSION:2.0
PRODID:http://ssb-oberer-aischgrund.de
BEGIN:VEVENT
UID:094f8cd3-36a8-11f1-a8bf-0242ac11002b-1777359600000-de
DTSTAMP:20260412T194436Z
DTSTART:20260428T070000Z
DTEND:20260428T080000Z
SUMMARY;LANGUAGE=de:Rosenkranz
END:VEVENT
END:VCALENDAR
