BEGIN:VCALENDAR
VERSION:2.0
PRODID:http://ssb-oberer-aischgrund.de
BEGIN:VEVENT
UID:09c6b8b8-36a8-11f1-a8bf-0242ac11002b-1777392000000-de
DTSTAMP:20260412T194437Z
DTSTART:20260428T160000Z
DTEND:20260428T170000Z
SUMMARY;LANGUAGE=de:Wort-Gottes-Feier
DESCRIPTION;LANGUAGE=de:Krankenhaus
END:VEVENT
END:VCALENDAR
