BEGIN:VCALENDAR
VERSION:2.0
PRODID:http://ssb-oberer-aischgrund.de
BEGIN:VEVENT
UID:09fac111-36a8-11f1-a8bf-0242ac11002b-1777653000000-de
DTSTAMP:20260412T194437Z
DTSTART:20260501T163000Z
DTEND:20260501T173000Z
SUMMARY;LANGUAGE=de:1. feierliche Maiandacht
END:VEVENT
END:VCALENDAR
