BEGIN:VCALENDAR
VERSION:2.0
PRODID:http://ssb-oberer-aischgrund.de
BEGIN:VEVENT
UID:0a1ffc57-36a8-11f1-a8bf-0242ac11002b-1777654800000-de
DTSTAMP:20260412T194437Z
DTSTART:20260501T170000Z
DTEND:20260501T180000Z
SUMMARY;LANGUAGE=de:Wort-Gottes-Feier
DESCRIPTION;LANGUAGE=de:Kiliani-Klinik
END:VEVENT
END:VCALENDAR
