BEGIN:VCALENDAR
VERSION:2.0
PRODID:http://ssb-oberer-aischgrund.de
BEGIN:VEVENT
UID:0aa4bcd2-36a8-11f1-a8bf-0242ac11002b-1777964400000-de
DTSTAMP:20260412T194438Z
DTSTART:20260505T070000Z
DTEND:20260505T080000Z
SUMMARY;LANGUAGE=de:Rosenkranz
END:VEVENT
END:VCALENDAR
