BEGIN:VCALENDAR
VERSION:2.0
PRODID:http://ssb-oberer-aischgrund.de
BEGIN:VEVENT
UID:0ae93ff1-36a8-11f1-a8bf-0242ac11002b-1777818600000-de
DTSTAMP:20260412T194439Z
DTSTART:20260503T143000Z
DTEND:20260503T153000Z
SUMMARY;LANGUAGE=de:Lauretanische Litanei in polnischer Sprache
END:VEVENT
END:VCALENDAR
