BEGIN:VCALENDAR
VERSION:2.0
PRODID:http://ssb-oberer-aischgrund.de
BEGIN:VEVENT
UID:0b3934bd-36a8-11f1-a8bf-0242ac11002b-1777568400000-de
DTSTAMP:20260412T194439Z
DTSTART:20260430T170000Z
DTEND:20260430T180000Z
SUMMARY;LANGUAGE=de:Eucharistische Anbetung
END:VEVENT
END:VCALENDAR
