BEGIN:VCALENDAR
VERSION:2.0
PRODID:http://ssb-oberer-aischgrund.de
BEGIN:VEVENT
UID:3755610c-3bce-11f1-a8bf-0242ac11002b-1779037200000-de
DTSTAMP:20260419T090030Z
DTSTART:20260517T170000Z
DTEND:20260517T180000Z
SUMMARY;LANGUAGE=de:Friedensgebet
DESCRIPTION;LANGUAGE=de:in der ev. Kirche Linden
END:VEVENT
END:VCALENDAR
