BEGIN:VCALENDAR
VERSION:2.0
PRODID:http://ssb-oberer-aischgrund.de
BEGIN:VEVENT
UID:382f4668-3bce-11f1-a8bf-0242ac11002b-1779001200000-de
DTSTAMP:20260419T090031Z
DTSTART:20260517T070000Z
DTEND:20260517T080000Z
SUMMARY;LANGUAGE=de:Eucharistiefeier
END:VEVENT
END:VCALENDAR
